Workbook

Sheet TES
C2: New Structure at TES | F2: 44348
E5: TES MANAGEMENT BOARD (TMB) | Q5: TES SUPERVISORY BOARD
Q6: HENGSTMANN Michael ARON Michal WARDROP Brian
E7: LERCH Manfred (CEO)
E8: PAVLICA Tomáš (CSO) PFEILER Zdeněk (COO) KASANICKÝ Ján (CFO)
C11: TES Leadership Team
C15: Quality JANUŠ Luděk | F15: Sales & Project Management PAVLICA Tomáš | I15: Operations & Plant Manager PFEILER Zdeněk | M15: R&D ŠKÝVARA Petr | P15: HR, Finance & Administration KASANICKÝ Ján
C19: Supply Chain ORBES Pavel | F19: Sales System Comp. HORÁK Aleš | I19: Mech. Comp. & Assembly STUPKA Ján | M19: Electrical Design HALUŠKA Jan | P19: Human Resources ROCHOWANSKÁ Tereza
F22: PM System Comp. MACHÁČEK Jaroslav | I22: Technology OVESNÝ Luboš | M22: Mechanical Design HOŘÁK Ladislav | P22: Controlling MÁČALA Jakub
C23: Technical Service ŠVAJKA Robert
F25: Sales Machines&Solut. VYPUŠŤÁK Ondřej | I25: Planning TKADLEC Pavel | M25: El. magnetic Design ŠKÝVARA Petr | P25: Accounting ŠVAGEROVÁ Martina
C28: Automation Technology R&D and Electical Design VINKLÁREK David | F28: PM Machines&Solut. SOCHORA Marek | I28: El. Compon. & Lams. POLANSKÝ Petr | M28: Support SURÝ Antonín | P28: IT KOUSALOVÁ Erika
F31: Technical Sales STUPKOVÁ Jana | I31: Switchboard & Toolshop MATULA Lukáš
C33: Automation Technology Mechanical Design ZAPALAČ Zbyněk
F34: Sales Switchboards JANUŠKOVÁ Jitka

Sheet Units
A1: UNIT | B1: ENGLISH | C1: CZECH
A2: 1140 | B2: Development | C2: Rozvoj
A3: 1210 | B3: Quality Management | C3: Řízení procesu kvality
A4: 1410 | B4: Supply Chain | C4: Nákup
A5: 1420 | B5: Material Warehouse | C5: Materiálové sklady
A6: 1510 | B6: Controlling | C6: Controlling
A7: 1520 | B7: Accounting Department | C7: Účtárna
A8: 1530 | B8: IT | C8: Informatika
A9: 1610 | B9: HR | C9: Personální oddělení
A10: 1910 | B10: Operations Management - TMO | C10: Řízení provozu TOV
A11: 1920 | B11: Energetics | C11: Energetika
A12: 1930 | B12: Electrical Maintenance | C12: Elektroúdržba
A13: 1940 | B13: Machinery Maintenance | C13: Strojní údržba
... A25: 2450 | B25: Shafts | C25: Hřídele
A26: 2460 | C26: Ostřírna
A27: 2531 | B27: Coils And Winding Shop | C27: Cívky a navijárna
A28: 2532 | B28: Own Machines Winding Shop | C28: Navijárna vlastních strojů
A29: 2540 | B29: ABB LV winding | C29: Hromadné navíjení svazků
A30: 2551 | B30: Assembly | C30: Montáž
A31: 2560 | B31: Testing room | C31: Zkušebna
A32: 2570 | B32: Painting And Packaging Shop | C32: Lakovna a balení
A33: 2572 | B33: Impregnation | C33: Impregnace
A34: 2620 | B34: Own Machines Stacking Shop | C34: Paketárna vlastních strojů
A35: 2650 | B35: Own Machines Assembly | C35: Montáž vlastních strojů
A36: 2720 | B36: Electrical Production | C36: Elektrovýroba
A37: 2730 | B37: Single Part Production - Switchboard | C37: Výroba kusových rozvaděčů
A38: 2740 | B38: Testing room | C38: Zkušebna
... A74: 5530 | B74: Development | C74: Vývoj

Sheet Automation Technology ED
B2: New Structure at TES | F2: =TES!F2 -> 44348
AD3: Automation Technology R&D & Electrical Design
AD4: 5530 | AE4: VINKLÁREK David, Ing., Ph.D. | AI4: MN
AD5: 20210 | AE5: Manager of R&D and Electrical Design Dpt.
AE6: Manažer R&D a elektroprojekce
B10: 5520 | C10: FILA Miroslav | G10: T | I10: 5520 | J10: FRYDRYCH Michal, Ing. | N10: T | P10: 5520 | Q10: CHRÁSTECKÝ Lukáš, Bc. | U10: T | W10: 5530 | X10: JANUŠKA Peter, Ing. | AB10: T | AD10: 5520 | AE10: JAROŠEK Tomáš, Bc. | AI10: T | AK10: 5520 | AL10: MOLER Aleš, Ing. | AP10: T | AR10: 5520 | AS10: SPURNÝ David, Ing. | AW10: T | AY10: 5530 | AZ10: SKÁCEL Michal, Ing. | BD10: T
B11: 20024 | C11: Design Engineer | I11: 20350 | J11: Electrical Designer/ PLC Programmer | P11: 12104 | Q11: Design Engineer/Electrical Designer | W11: 11806 | X11: R&D Programmer | AD11: 20118 | AE11: Project Manager for SKODA AUTO | AK11: 20167 | AL11: Electrical Designer/ PLC Programmer | AR11: 12232 | AS11: Electrical Designer/ PLC Programmer | AY11: 12438 | AZ11: R&D Programmer
C12: Elektrokostruktér | J12: Projektant elektro - Programátor PLC | Q12: Elektrokonstruktér/elektroprojektant | X12: Programátor pro R&D | AE12: Projektový manažer pro ŠKODA AUTO | AL12: Projektant elektro - Programátor PLC | AS12: Projektant elektro - Programátor PLC | AZ12: Programátor pro R&D
B16: Jednatelé
B17: Manažeři
B18: Vedoucí
B19: Administrativa
B20: Režisti
B21: Dílny
B22: Mateřská
B23: Externista

Sheet Automation Technology MD
B2: New Structure at TES | F2: =TES!F2 -> 44348
S3: Jednatel
S4: 1110 | T4: PFEILER Zdeněk, Ing. | X4: J
S5: 11350 | T5: Operations & Plant Manager (COO)
T6: Výrobní ředitel
S8: 5510 | T8: ZAPALAČ Zbyněk | X8: MN
S9: 20251 | T9: Manager of Mechanical Design
T10: Manažer konstrukce
E13: 5510 | F13: MRÁZEK Radovan | J13: T | L13: 5510 | M13: ZMĚŠKAL Zdeněk | Q13: T | S13: 5512 | T13: KRISTEN Šimon, Ing. | X13: VS | Z13: 5511 | AA13: KRSEK Michal | AE13: VS | AG13: 5510 | AH13: FOJTŮ Hana | AL13: T
E14: 11633 | F14: Technologies | L14: 11872 | M14: Technologies | S14: 12317 | T14: Mechanical Designer - Test Stands Technical Calculations | Z14: 20327 | AA14: Mechanical Designer - SPM | AG14: 20243 | AH14: Mechanical Designer QAD Specialist
F15: Technolog | M15: Technolog | T15: Konstruktér | AA15: Konstruktér | AH15: Konstruktér
B17: Jednatelé | S17: 5512 | T17: KUBĚJA Jiří, Ing. | X17: T | Z17: 5511 | AA17: JANOTA Petr, Ing. | AE17: T
B18: Manažeři | S18: 11889 | T18: Mechanical Designer - Test Stands Technical Calculations | Z18: 20238 | AA18: Mechanical Designer - SPM Pneumatic components specialist
B19: Vedoucí | T19: Konstruktér | AA19: Konstruktér
B20: Administrativa
B21: Režisti | S21: 5512 | T21: MARCOŇ Václav | X21: T | Z21: 5511 | AA21: VALIGURA Bohuslav, Ing. | AE21: T
B22: Dílny | S22: 12272 | T22: Mechanical Designer - Test Stands | Z22: 12508 | AA22: Mechanical Designer - SPP
B23: Mateřská | T23: Konstruktér - Zkušební stanoviště | AA23: Konstruktér - JUS
B24: Externista
Z25: 5511 | AA25: SLOVÁČEK František, Ing. | AE25: T
Z26: 20240 | AA26: Mechanical Designer - SPP Technical Calculations
AA27: Konstruktér - JUS
Z29: 5511 | AA29: VÁLEK Michal, Ing. | AE29: T
Z30: 12443 | AA30: Mechanical Designer - SPP
AA31: Konstruktér - JUS

Sheet _TST_Automation Technology MD
B2: New Structure at TES | F2: =#REF! -> #REF!
B3: THZ | C3: 17 | I3: Automatical Technology Mechanical Design
B4: DR | C4: 0 | I4: 5510 | J4: ZAPALAČ Zbyněk | N4: M II
B5: DV | C5: 0 | I5: 20251 | J5: Manager of Mechanical Design
J6: Manažer konstrukce
B9: 5510 | C9: BAYER Jiří | G9: T | I9: 5510 | J9: KRISTEN Šimon, Ing. | N9: T | P9: 5510 | Q9: JANEČEK Jiří Ing. | U9: T
B10: 20258 | C10: Technologies | I10: 12317 | J10: Mechanical Designer - Test Stands Technical Calculations | P10: 12374 | Q10: Mechanical Designer - SPM
C11: Technolog | J11: Konstruktér - Zkušební stanoviště | Q11: Konstruktér - JUS
B13: 5510 | C13: MRÁZEK Radovan | G13: T | I13: 5510 | J13: KUBĚJA Jiří, Ing. | N13: T | P13: 5510 | Q13: JANOTA Petr, Ing. | U13: T
B14: 11633 | C14: Technologies | I14: 11889 | J14: Mechanical Designer - Test Stands Technical Calculations | P14: 20238 | Q14: Mechanical Designer - SPM Pneumatic components specialist
C15: Technolog | J15: Konstruktér - Zkušební stanoviště | Q15: Konstruktér - JUS
B17: 5510 | C17: ZMEŠKAL Zdeněk | G17: T | I17: 5510 | J17: MARCOŇ Václav | N17: T | P17: 5510 | Q17: JURÁNEK Pavel, Ing. | U17: T
B18: 11872 | C18: Technologies | I18: 12272 | J18: Mechanical Designer - Test Stands | P18: 12350 | Q18: Mechanical Designer - SPM
C19: Technolog | J19: Konstruktér - Zkušební stanoviště | Q19: Konstruktér - JUS
I21: 5510 | J21: MARKOVÁ Hana | N21: T | P21: 5510 | Q21: KRSEK Michal | U21: T
C22: Manažeři I | I22: 1034 | J22: Mechanical Designer - Test Stands | P22: 20327 | Q22: Mechanical Designer - SPM
C23: Manažeři II | J23: Konstruktér - Zkušební stanoviště | Q23: Konstruktér - JUS
C24: Vedoucí
C25: Administrativa | I25: 5510 | J25: VALENTA Tomáš, Ing. | N25: T | P25: 5510 | Q25: SLOVÁČEK František, Ing. | U25: T
C26: Režisti | I26: 11914 | J26: Mechanical Designer - Test Stands | P26: 20240 | Q26: Mechanical Designer - SPP Technical Calculations
C27: Dílny | J27: Konstruktér - Zkušební stanoviště | Q27: Konstruktér - JUS
C28: Mateřská
I29: 5510 | J29: FOJTŮ Hana | N29: T | P29: 5510 | Q29: VÁLEK Michal, Ing. | U29: T
I30: 20243 | J30: Mechanical Designer QAD Specialist | P30: 12443 | Q30: Mechanical Designer - SPP
J31: Konstruktér | Q31: Konstruktér - JUS
P33: 5510 | Q33: VALIGURA Bohuslav, Ing. | U33: T
P34: 12508 | Q34: Mechanical Designer - SPP
Q35: Konstruktér - JUS
P37: 5510 | Q37: FOJTŮ Hana | U37: T
P38: 20243 | Q38: Mechanical Designer QAD Specialist
Q39: Konstruktér

Sheet Quality
B2: New Structure at TES | F2: =TES!F2 -> 44348
W3: 1210 - Kvalita / Quality
W4: 1210 | X4: JANUŠ Luděk, Ing. | AB4: MN
W5: 01013 | X5: Quality Direktor
X6: Ředitel kvality
B10: 1210 | C10: MACHÁČOVÁ Pavla | G10: T | I10: 1210 | J10: JELÉNKOVÁ Markéta, Ing. | N10: R | P10: 1210 | Q10: PINĎÁK Rostislav | U10: VS | W10: 1210 | X10: VACULÍK Lukáš | AB10: R | AD10: 1210 | AE10: CHYTIL Petr | AI10: T | AK10: 1210 | AL10: KUPSKÝ Matěj | AP10: T | AR10: 1 | AS10: SKÁCAL Libor, Ing | AW10: EX
B11: 99910 | C11: Inspektor Quality | I11: 12412 | J11: EMS Referent | P11: 96336 | Q11: Welding Supervisor (IWT) | W11: 11443 | X11: Metrologist | AD11: 12444 | AE11: Supplier Quality Engineer (SQE) | AK11: 12308 | AL11: Inspektor Quality Senior | AS11: Healrth and Safety specialist - externaly
C12: Inspektor kvality - vst.kontrola | J12: Referent EMS | Q12: Svařovací dozor | X12: Metrolog | AE12: SQE - Inženýr kvality pro dodavetale | AL12: Inspektor kvality - senior | AS12: Technik BOZP a PO - externí
P14: 1 | Q14: DOLEŽEL František | U14: EX
C15: Jednatelé | Q15: Welding Technologist (IWT) - externaly
C16: Manažeři | Q16: Svařovací technolog - externí
C17: Vedoucí
C18: Administrativa
C19: Režisti | X19: Inženýři a Inspektoři kvality jednotlivých produktových jednotek spadají personálně pod Produktové manažery. Ti však nemůžou rozhodnout o kvalitě výrobku. Z pohledu kvality výrobku spadají tyto pozice pod Ředitele kvality. Tím je zajištěna nezávislost zmíněných pozic na výrobních útvarech. Pozice IWS (svařovací specialista R. Košárek, os. č. 11408) spadá z pohledu svařovacího systému pod Ředitele kvality, stejně jako IWT (R. Pinďák).
C20: Dílny
C21: Mateřská
C22: Externista

Sheet SCM
B2: New Structure at TES | F2: =TES!F2 -> 44348
W3: 1410 - Nákup / Purchase
W4: 1410 | X4: ORBES Pavel | AB4: MN
W5: 12103 | X5: Supply Chain Director
X6: Vedoucí nákupu
B10: 1420 | C10: BARTONÍKOVÁ Vladimíra | G10: DR | I10: 1410 | J10: GRYGAR Karel, Ing. | N10: R | P10: 1410 | Q10: KUKULA Radim, Mgr. | U10: R | W10: 1410 | X10: ORSÁGOVÁ Jitka, Mgr. | AB10: R | AD10: 1410 | AE10: PETRČKA Tomáš | AI10: R | AK10: 1410 | AL10: RUSÍNOVÁ Eva, Ing. | AP10: R | AR10: 1410 | AS10: RECHTIGOVÁ Lucie, Ing. | AW10: R | AY10: 1410 | AZ10: FILÁK Jan | BD10: R
B11: 54355 | C11: Stock Clerk | I11: 01017 | J11: Purchase Officer | P11: 01018 | Q11: Purchase Officer | W11: 12433 | X11: Purchase Officer | AD11: 20247 | AE11: Purchase Officer | AK11: 20369 | AL11: Purchase Officer | AR11: 12126 | AS11: Purchase Officer | AY11: 12581 | AZ11: Purchase Officer
C12: Skladník | J12: Referent nákupu | Q12: Referent nákupu | X12: Referent nákupu | AE12: Referent nákupu | AL12: Referent nákupu | AS12: Referent nákupu | AZ12: Referent nákupu
C15: Jednatelé
C16: Manažeři
C17: Vedoucí
C18: Administrativa
C19: Režisti
C20: Dílny
C21: Mateřská
C22: Externista

Sheet Sales
B2: New Structure at TES | F2: =TES!F2 -> 44348
N3: Obchod / Sales
N4: 1110 | O4: PAVLICA Tomáš, Ing. | S4: J
N5: 10090 | O5: Sales & PM Director (CSO)
O6: Ředitel obchodu a PM
B10: 3210 | C10: VYPUŠŤÁK Ondřej, Ing. | G10: MO | J10: 5220 | K10: JANUŠKOVÁ Jitka, Ing. | O10: MO | R10: 5210 | S10: STUPKOVÁ Jana | W10: MO | Y10: 4210 | Z10: HORÁK Aleš, Ing. | AD10: MO
B11: 10402 | C11: Sales Team Leader Machines & Solutions | J11: 11926 | K11: Key account manager | R11: 20209 | S11: Key account manager | Y11: 11283 | Z11: Sales Team Leader Systém Components
C12: Obchodní manažer | K12: Key account manager | S12: Key account manager | Z12: Obchodní manažer
B14: 3210 | C14: RÁC Oldřich, Ing. | G14: MO | J14: 5220 | K14: JELÍNKOVÁ Lada, Ing. | O14: R | R14: 5220 | S14: PILČÍKOVÁ Michaela | W14: R | Y14: 4210 | Z14: RYŠAVÝ Pavel Ing. | AD14: MO
B15: 72338 | C15: Key Account Manager | J15: 12610 | K15: Project Management | R15: 12544 | S15: Project Management | Y15: 12612 | Z15: Key Account Manager
C16: Key Account Manager | K16: Referent řízení zakázky | S16: Referent řízení zakázky | Z16: Key Account Manager
B18: 3210 | C18: MAREČKOVÁ Andrea, Ing. | G18: MO | Y18: 4210 | Z18: KOTEK Roman | AD18: MO
B19: 12538 | C19: Key Account Manager | Y19: 12166 | Z19: Key Account Manager
C20: Key Account Manager | Z20: Key Account Manager
B22: 5520 | C22: JAROŠEK Tomáš, Bc. | G22: T | Y22: 4210 | Z22: ŘEHOŘOVÁ Lenka | AD22: R
B23: 20118 | C23: Project Manager for SKODA AUTO | Y23: 12439 | Z23: Cost Analyst
C24: Projektový manažer pro ŠKODA AUTO | Z24: Kalkulant
B26: 5510 | C26: ZAPALAČ Zbyněk | G26: MN | K26: přímý nadřízený | Y26: 4210 | Z26: KAŠPAROVÁ Kateřina, Ing. | AD26: R
B27: 20251 | C27: Manager of Mechanical Design | K27: nepřímý nadřízený | Y27: 11884 | Z27: Key Account Manager | AD27: Mat.
C28: Manažer konstrukce | Z28: Key Account Manager
K29: Jednatelé
B30: 5210 | C30: FERANEC Marcel, Bc. | G30: MO | K30: Manažeři | Y30: 4210 | Z30: ERNESTOVÁ Kateřina, Ing. | AD30: R
B31: 12618 | C31: Key account manager | K31: Vedoucí | Y31: 12134 | Z31: Cost Analyst | AD31: Mat.
C32: Key account manager | K32: Administrativa | Z32: Kalkulant
K33: Režisti
B34: 3210 | C34: TRLICOVÁ Petra | G34: R | K34: Dílny | Y34: 5220 | Z34: RAKOVÁ Petra | AD34: R
B35: 12075 | C35: Sales Assistant | K35: Mateřská | Y35: 12303 | Z35: Project Management | AD35: Mat.
C36: Asistentka obchodu | K36: Externista | Z36: Referent řízení zakázky

Sheet Technical Service
B2: New Structure at TES | F2: =TES!F2 -> 44348
M3: 3480 - Servis / Service
M4: 3480 | N4: ŠVAJKA Robert, Ing. | R4: MN
M5: 01002 | N5: Technical service manager
N6: Manažér servisu
M10: 3480 | N10: LÁTALOVÁ Barbora DiS. | R10: R
M11: 20326 | N11: Project Management
N12: Referent péče o zákazníka
C15: Jednatelé
C16: Manažeři
C17: Vedoucí
C18: Administrativa
C19: Režisti
C20: Dílny
C21: Mateřská
C22: Externista

Sheet Project Management
C2: New Structure at TES | G2: =TES!F2 -> 44348
J3: Projektový management / Project Management
J4: 1110 | K4: PAVLICA Tomáš, Ing. | O4: J
J5: 10090 | K5: Sales & PM Director (CSO)
K6: Ředitel obchodu a PM
C8: Jednatelé
C9: Manažeři
C10: Vedoucí | G10: 4310 | H10: MACHÁČEK Jaroslav | L10: MN | N10: 3310 | O10: SOCHORA Marek, Ing. | S10: VS
C11: Administrativa | G11: 01028 | H11: Project Management Manager System Components | N11: 11154 | O11: Project Management Manager System Components
C12: Režisti | H12: Manažer řízení zakázek | O12: Vedoucí řízení zakázek
C13: Dílny
C14: Mateřská | G14: 4310 | H14: BĚHAL Tomáš | L14: R | N14: 3310 | O14: HRTÁŇOVÁ Iva, Ing. | S14: R
C15: Externista | G15: 11745 | H15: Expedient | N15: 12008 | O15: Project Manager
H16: Expedient | O16: Projektový manažer
G18: 4310 | H18: DUŠKOVÁ Barbora, Bc. | L18: R | N18: 3310 | O18: VALOVÁ Radka | S18: R
G19: 11913 | H19: Project Management | N19: 11635 | O19: Project Manager
H20: Referent řízení zakázky | O20: Projektový manažer
G22: 4310 | H22: MOŘKOVSKÁ Kristýna, Ing. | L22: R | N22: 5220 | O22: HRUBOŇOVÁ Petra, Bc. | S22: R
G23: 11604 | H23: Project Management | N23: 12383 | O23: Project Manager
H24: Referent řízení zakázky | O24: Projektový manažer
G26: 4310 | H26: OBADALOVÁ Marie, Bc. | L26: R | N26: 3310 | O26: VRÁBLÍKOVÁ Pavlína, Ing. | S26: R
G27: 99217 | H27: Project Management | N27: 12192 | O27: Project Manager
H28: Referent řízení zakázky | O28: Projektový manažer
G30: 4310 | H30: ORSÁGOVÁ Alena | L30: R
G31: 12205 | H31: Project Management
H32: Referent řízení zakázky
G34: 4310 | H34: JABŮRKOVÁ Jana, Ing. | L34: R
G35: 10694 | H35: Project Management
H36: Referent řízení zakázky

Sheet Assembly Testing
B2: New Structure at TES | F2: =#REF! -> #REF!
W3: Electrical Machine Assembly
B4: THZ | C4: =SUM(D4:G4) -> 0
B5: DR | C5: =SUM(D5:G5) -> 0 | X5: Product Unit Manager
B6: DV | C6: =U16+U17+U18+AB23+AB22 -> 17 | X6: Manažer produktové jednotky
B11: 2560 | C11: CAPIL Tomáš | G11: T | I11: 2560 | J11: ŠKÝVARA Jiří | N11: T | P11: 3460 | Q11: HROMADA Jaromír | U11: M | X11: SCHNEIDER Tomáš | AB11: M | AD11: 2560 | AE11: CHRÁSTECKÝ David | AI11: T | AK11: 3430 | AL11: VRZAL Martin | AP11: T | AR11: 3420 | AS11: MELIŠÍK Martin, Ing., Ph.D. | AW11: VS
B12: 11759 | C12: Test Technician | I12: 32511 | J12: Test Technician | P12: 81237 | Q12: Master - Winding Shop, Impregnation | X12: Master of Assembly | AD12: 11749 | AE12: Test Technician | AK12: 11073 | AL12: Quality Inspector - junior | AR12: 11378 | AS12: Head of Technology
C13: Zkušební Technik | J13: Zkušební Technik | Q13: Mistr - navijáren, impregnace | X13: mistr montáže | AE13: Zkušební Technik | AL13: Inspektor kvality junior | AS13: Technolog
AR15: 3420 | AS15: PASTORČÁK Radim | AW15: T
C16: Jednatelé | P16: 2532 | Q16: Naviárna / Winding Shop | U16: 5 | AR16: 91523 | AS16: Technologist
C17: Manažeři | P17: 2572 | Q17: Impregnace / Impregnation | U17: 4 | AS17: Technolog elektro
C18: Vedoucí | P18: 2620 | Q18: Paketárna / Stacking Shop | U18: 3
C19: Administrativa | AR19: 3420 | AS19: VAJDA Jan | AW19: T
C20: Režisti | AR20: 1217 | AS20: Technologist and Quality engineer Assembly
C21: Dílny | AS21: Konstruktér + Inženýr kvality montáž, zkušebna
C22: Mateřská | P22: 2551 | Q22: CHALUPKA Milan | U22: DR | W22: 2551 | X22: Montáž / Assembly | AB22: 0 | AD22: 3440 | AE22: URUBKOVÁ Milena | AI22: DR | AK22: 3440 | AL22: TRLICOVÁ PETRA | AP22: DR
C23: Externista | P23: 12516 | Q23: Operator - Forklift | W23: 2650 | X23: Montáž strojů / Machines Assembly | AB23: 5 | AD23: 40297 | AE23: Warehouse | AK23: 12470 | AL23: Warehouse
Q24: Manipulant - řidič VV | AE24: Skladník - zásobovač | AL24: Skladník - výdejce

Sheet Technology - Methodics
B2: New Structure at TES | F2: =TES!F2 -> 44348 | I2: Technologie / Technology
I3: 4410 | J3: OVESNÝ Luboš | N3: MN
I4: 98834 | J4: Head od Technology
J5: VS TPV
B9: 3420 | C9: MELIŠÍK Martin, Ing., Ph.D. | G9: VS | I9: 4410 | J9: OVESNÝ Luboš | N9: MN | P9: 4610 | Q9: TOMANEC Zdeněk | U9: VS
B10: 11378 | C10: Head of Technology | I10: 98834 | J10: Leader of TPP | P10: 10207 | Q10: Leader of TPP
C11: Technolog | J11: VS TPV | Q11: VS TPV (technolog)
B13: 3420 | C13: PASTORČÁK Radim | G13: T | I13: 4410 | J13: LATINA Jakub | N13: T | P13: 4610 | Q13: KOŠÁREK Radim | U13: T
B14: 91523 | C14: Technologist | I14: 11550 | J14: Technologist | P14: 11408 | Q14: Technologist & Welding Specialist (IWS)
C15: Technolog elektro | J15: Technolog | Q15: Technolog
I17: 4410 | J17: MACHALA Petr | N17: VS | P17: 4610 | Q17: JEŠO Tomáš, Ing. | U17: T
I18: 94301 | J18: Technologist | P18: 11941 | Q18: Technologist
J19: VS Technologie | Q19: Technolog - inženýr kvality
B21: Jednatelé | E21: Polanský | I21: 4410 | J21: BAŘÁK Jaroslav, Ing. | N21: T | P21: 4610 | Q21: LEŠČIŠÍN Jakub | U21: T
B22: Manažeři | E22: Stupka | I22: 63210 | J22: Technologist | P22: 12431 | Q22: Designer
B23: Vedoucí | J23: Technolog | Q23: Konstruktér
B24: Administrativa
B25: Režisti | I25: 4410 | J25: HERMANOVÁ Margita, Ing. | N25: T | P25: 4610 | Q25: MACHÁČ Vlastimil, Bc. | U25: T
B26: Dílny | I26: 10054 | J26: Technologist | P26: 10834 | Q26: Technologist - Winding
B27: Mateřská | J27: Technolog | Q27: Technolog navíjení
B28: Externista
I29: 4410 | J29: NOVOSAD Robert | N29: T | P29: 4610 | Q29: BLANARČÍK Petr, Ing. | U29: T
I30: 10110 | J30: Technologist | P30: 01038 | Q30: Designer
J31: Technolog | Q31: Konstruktér
I33: 4410 | J33: SUROVEC Jiří, Ing. | N33: T
I34: 10171 | J34: Technologist
J35: Technik specialista
I37: 4410 | J37: BAROŇ Michal, Ing. | N37: T
I38: 11502 | J38: Designer
J39: Konstruktér
I41: 4410 | J41: MOLEK Petr | N41: T
I42: 01046 | J42: Designer
J43: Konstruktér
I45: 4410 | J45: MARTINŮ Jan, Ing. | N45: T
I46: 12195 | J46: Designer
J47: Konstruktér

Sheet Planning
B2: New Structure at TES | F2: =TES!F2 -> 44348
X3: Synchronizované plánování / Synchronous planning
X4: 4710 | Y4: TKADLEC Pavel | AC4: MN
X5: 01016 | Y5: Synchronus Planning Manager
Y6: Manažer synchronizovaného plánování
B10: 4710 | C10: GARGULÁK Tomáš | G10: R | I10: 5220 | J10: PILARSKÁ Jana, Bc. | N10: R | P10: 4710 | Q10: RIDEL Petr | U10: R | W10: 4710 | X10: ŠERÝ Ondřej | AB10: R | AD10: 4710 | AE10: HNÁTKOVÁ Iveta | AI10: R | AK10: 4710 | AL10: TRUKSOVÁ Soňa | AP10: R | AR10: 4710 | AS10: VÁVRA Zbyněk, Ing. | AW10: R
B11: 11664 | C11: Planner - Dispatcher | I11: 20381 | J11: Project Management Clerk/Planner | P11: 52851 | Q11: Planner - Dispatcher | W11: 11615 | X11: Planner - Dispatcher | AD11: 11996 | AE11: Planner - Dispatcher | AK11: 20289 | AL11: Planner - Dispatcher | AR11: 11532 | AS11: Planner - Dispatcher
C12: Plánovač - dispečer | J12: Referent péče o zákazníky | Q12: Plánovač - dispečer | X12: Plánovač - dispečer | AE12: Plánovač - dispečer | AL12: Plánovač - dispečer | AS12: Plánovač - dispečer
B15: Jednatelé | I15: 4710 | J15: ŠVIRÁKOVÁ Lucie | N15: R
B16: Manažeři | I16: 11678 | J16: Planner - Machine-works | N16: Mat.
B17: Vedoucí | J17: Plánovač - strojírny
B18: Administrativa
B19: Režisti
B20: Dílny
B21: Mateřská
B22: Externista

Sheet Mech. Components
B2: New Structure at TES | F2: =TES!F2 -> 44348
AI3: Mechanické komponenty / Mechanical Components
AI4: 4440 | AJ4: STUPKA Ján, Ing. | AN4: MN
AI5: 12079 | AJ5: Product Unit Manager
AJ6: Manažer produktové jednotky
C11: 1310 | D11: MIKUŠEK Jiří | H11: T | J11: 2320 | K11: ONDRA Zbyněk | O11: DR | Q11: 4440 | R11: KREJČÍ Pavel | V11: M | AA11: 4440 | AB11: HNÁTEK Jiří | AF11: M | AI11: 4440 | AJ11: VANĚK Miroslav | AN11: M | AP11: 4440 | AQ11: ONDRUŠ Michal | AU11: M | AX11: 4450 | AY11: SCHNEIDER Tomáš | BC11: M | BE11: 4450 | BF11: ŘEZANINA Lubomír | BJ11: M | BM11: 4450 | BN11: VICHTORA Radek | BR11: M | BT11: 4420 | BU11: VAJDA Jan | BY11: T | CA11: 4410 | CB11: OVESNÝ Luboš | CF11: MN | CH11: 3420 | CI11: MELIŠÍK Martin, Ing., Ph.D. | CM11: VS | CO11: 2560 | CP11: CAPIL Tomáš | CT11: T
C12: 89368 | D12: Industrial engineer | J12: 11264 | K12: Material Distribution | Q12: 10243 | R12: Master - Welding | AA12: 69985 | AB12: Master - Big Parts machining | AI12: 10869 | AJ12: Master - Big Parts machining | AP12: 11736 | AQ12: Master - Servery room | AX12: 99033 | AY12: Master - Locksmiths, Welding, Painting Shop | BE12: 11801 | BF12: Master - welding | BM12: 10103 | BN12: Master - Machining Smal Parts, Shafts | BT12: 12117 | BU12: Technologist and Quality engineer Assembly | CA12: 98834 | CB12: Leader of TPP | CH12: 11378 | CI12: Head of Technology | CO12: 11759 | CP12: Test Technician
D13: Průmyslový inženýr | K13: Distribuce materiálu | R13: Mistr svařovny | AB13: Mistr velkých dílů | AJ13: Mistr velkých dílů | AQ13: Mistr výdejny, ostřírny | AY13: Mistr zám., svařování, lakování | BF13: Mistr svařování | BN13: Mistr obrábění malých dílů, hřídelí | BU13: Konstruktér + Inženýr kvality montáž, zkušebna | CB13: VS TPV | CI13: Technolog | CP13: Zkušební Technik
C15: 1310 | D15: DANIHEL Lukáš Ing. | H15: T | J15: 2320 | K15: KALVOSTER Peter | O15: DR | Q15: 2330 | R15: Svařování malé / Welding Small Parts | AP15: 2460 | AQ15: MATOCHA Pavel | AU15: DR | BE15: 2370 | BF15: Sériová výroba / Seriál Production | CA15: 4410 | CB15: LATINA Jakub | CF15: T | CH15: 3420 | CI15: PASTORČÁK Radim | CM15: T | CO15: 2560 | CP15: ŠKÝVARA Jiří | CT15: T
C16: 12579 | D16: Industrial engineer | J16: 11290 | K16: Operator - Forklift | Q16: 2350 | R16: Svařování velké / Welding Big Parts | AA16: 2420 | AB16: ONDRUŠ Petr | AF16: DR | AI16: 2420 | AJ16: KRATOCHVÍL Miroslav | AN16: DR | AP16: 54274 | AQ16: Sharpener | AX16: 2320 | AY16: ŠVANCARA Vladimír | BC16: DR | BM16: 2430 | BN16: ČOKAVEC Ondřej | BR16: DR | BT16: 4420 | BU16: BLIŽŇÁK Zdeněk | BY16: T | CA16: 11550 | CB16: Technologist | CH16: 91523 | CI16: Technologist | CO16: 32511 | CP16: Test Technician
D17: Průmyslový inženýr | K17: Manipulant - řidič VV | AA17: 11068 | AB17: Operator - Forklift | AI17: 47239 | AJ17: Forklift driver | AQ17: Ostřič | AX17: 11182 | AY17: Material distributor | BM17: 11518 | BN17: Material distributor | BT17: 10102 | BU17: Quality Inspector Senior | CB17: Technolog | CI17: Technolog elektro | CP17: Zkušební Technik
AB18: Manipulant - řidič VV | AJ18: Manipulant - řidič VV | AY18: Manipulant - kompletátor | BN18: Manipulant - komnpletátor | BU18: Inspektor kvality senior
J19: 2320 | K19: MIKULA Petr | O19: DR | AP19: 2460 | AQ19: ORSÁG Josef | AU19: DR | CA19: 4410 | CB19: MACHALA Petr | CF19: T | CO19: 2560 | CP19: MACEK Jindřich | CT19: T
J20: 10458 | K20: Warehouseman | AA20: 2420 | AB20: Velké díly / Big Parts | AI20: 2420 | AJ20: ŠKÝVARA Vlastimil | AN20: DR | AP20: 12560 | AQ20: Stock Clerk | AX20: 2551 | AY20: CHALUPKA Milan | BC20: DR | BM20: 2430 | BN20: Dílce /Small parts | BT20: 4420 | BU20: ZÁMEČNÍK Roman | BY20: T | CA20: 94301 | CB20: Technologist | CO20: 47009 | CP20: Test Technician
K21: Skladník | AI21: 84406 | AJ21: Operator - Forklift | AQ21: Skladník - výdejce | AX21: 12516 | AY21: Operator - Forklift | BM21: 2450 | BN21: Hřídele / Shafts | BT21: 82035 | BU21: Quality Inspector Senior | CB21: VS Technologie | CP21: Zkušební Technik
AJ22: Manipulant - řidič VV | AY22: Manipulant - řidič VV | BU22: Inspektor kvality senior
J23: 2320 | K23: GABRYŠ Michal | O23: DR | CA23: 4410 | CB23: BAŘÁK Jaroslav, Ing. | CF23: T | CO23: 2560 | CP23: BENÍČEK Jan | CT23: T
J24: 12152 | K24: Operator - Forklift | AI24: 2420 | AJ24: DROZD Jindřich | AN24: DR | AX24: 2551 | AY24: VÁLEK Šimon | BC24: DR | BT24: 4420 | BU24: VALČÍK Lukáš | BY24: T | CA24: 63210 | CB24: Technologist | CO24: 12409 | CP24: Test Technician
K25: Manipulant - řidič VV | AI25: 10177 | AJ25: Operator - Forklift | AX25: 10480 | AY25: Expedition worker | BT25: 12162 | BU25: Quality Inspector Senior | CB25: Technolog | CP25: Zkušební Technik
AJ26: Manipulant - řidič VV | AY26: Pracovník expedice | BU26: Inspektor kvality senior
J27: 2320 | K27: STIX Josef | O27: DR | CA27: 4410 | CB27: HERMANOVÁ Margita, Ing. | CF27: T
C28: Jednatelé | J28: 80586 | K28: Material Distributor | AX28: 2340 | AY28: Klempírna / Sheet Metal Works | BM28: 4420 | BN28: STAŠOVÁ Gabriela, Ing. | BR28: T | BT28: 4420 | BU28: MICHÁLEK Radek | BY28: T | CA28: 10054 | CB28: Technologist
C29: Manažeři | K29: Manipulant - komnpletátor | AI29: 2420 | AJ29: Velké díly / Big Parts | AX29: 2570 | AY29: Lakovna a balení / Painting & Packaging Shop | BM29: 12031 | BN29: Quality Engineer Junior | BR29: Mat. | BT29: 11798 | BU29: Quality Inspector Junior | CB29: Technolog
C30: Vedoucí | AX30: 2320 | AY30: Dělení materiálu / Material cutting and blasting | BN30: Inženýr kvality junior | BU30: Inspektor kvality junior
C31: Administrativa | CA31: 4410 | CB31: NOVOSAD Robert | CF31: T
C32: Režisti | AX32: 2551 | AY32: Montáž / Assembly | BT32: 4420 | BU32: OLŠÁK Martin, Bc. | BY32: VS | CA32: 10110 | CB32: Technologist
C33: Dílny | AX33: 2650 | AY33: Montáž strojů / Machines Assembly | BT33: 11194 | BU33: Engineer of Quality Machining & Welding | CB33: Technolog
C34: Mateřská | BU34: Inženýr kvality obrábění a svařování
C35: Externista | CA35: 4410 | CB35: SUROVEC Jiří, Ing. | CF35: T
BT36: 4420 | BU36: PROKOPOVÁ Michaela | BY36: T | CA36: 10171 | CB36: Technologist
BT37: 12469 | BU37: Quality Inspector Junior | CB37: Technik specialista
BU38: Inspektor kvality junior
CA39: 4410 | CB39: BAROŇ Michal, Ing. | CF39: T
CA40: 11502 | CB40: Designer
CB41: Konstruktér
CA43: 4410 | CB43: MOLEK Petr | CF43: T
CA44: 01046 | CB44: Designer
CB45: Konstruktér
CA47: 4410 | CB47: MARTINŮ Jan, Ing. | CF47: T
CA48: 12195 | CB48: Designer
...

Sheet El. Components
B2: New Structure at TES | F2: =TES!F2 -> 44348
R3: Elektrické komponenty / Electricts Components
B4: THZ | C4: =SUM(D4:G4) -> 0 | R4: 4660 | S4: POLANSKÝ Petr, Ing. | W4: MN
B5: DR | C5: =SUM(D5:G5) -> 0 | R5: 10656 | S5: Product Unit Manager - El. Components
B6: DV | S6: Manažer produktové jednotky - El. Komponenty
B10: 4650 | C10: KUBÍČEK Milan | G10: M | J10: 4660 | K10: KAŠPAR Jaromír | O10: M | R10: 4670 | S10: KUČERŇÁK Roman | W10: M | Y10: 4520 | Z10: MAŇÁKOVÁ Marie | AD10: T | AF10: 4610 | AG10: TOMANEC Zdeněk | AK10: VS | AM10: 3460 | AN10: HROMADA Jaromír | AR10: M
B11: 61772 | C11: Master - Winding Shop & Coils | J11: 99758 | K11: Master - Stacking Shop | R11: 11519 | S11: Master - Serial Winding Comp. | Y11: 50065 | Z11: Engineer of Quality - Senior | AF11: 10207 | AG11: Leader of TPP | AM11: 81237 | AN11: Master - Winding Shop, Impregnation
C12: Mistr - vinutých dílů | K12: Mistr - Paketárna | S12: Mistr - sér. Navíjené komponenety | Z12: Inženýr kvality - Senior | AG12: VS TPV (technolog) | AN12: Mistr - navijáren, impregnace
B14: 2531 | C14: Cívky a navijárna/Coils & Winding Shop | R14: 2540 | S14: Hromadné navíjení svazku / ABB LV Winding | Y14: 4520 | Z14: KOPECKÁ Ludmila | AD14: T | AF14: 4610 | AG14: KOŠÁREK Radim | AK14: T
J15: 3440 | K15: HAVELKA Jan | O15: DR | Y15: 10129 | Z15: Quality Inspector - Junior | AF15: 11408 | AG15: Technologist & Welding Specialist (IWS) | AM15: 2532 | AN15: Navijárna / Winding Shop
J16: 12320 | K16: Operator - Assembler | Z16: Inspektor kvality - Junior | AG16: Technolog | AM16: 2572 | AN16: Impregnace / Impregnation
K17: Manipulant - kompletátor
B18: Jednatelé | Y18: 4520 | Z18: LOKAJ Michal | AD18: T | AF18: 4610 | AG18: JEŠO Tomáš, Ing. | AK18: T
B19: Manažeři | J19: 2230 | K19: DONATH Milan | O19: DRc | Y19: 12029 | Z19: Quality Inspector - Junior | AF19: 11941 | AG19: Technologist
B20: Vedoucí | J20: 12582 | K20: Operator - Forklift | O20: AGP | Z20: Inspektor kvality - Junior | AG20: Technolog - inženýr kvality
B21: Administrativa | K21: Manipulant - řidič VV
B22: Režisti | Y22: 4520 | Z22: MATOCHOVÁ Jarmila | AD22: T | AF22: 4610 | AG22: LEŠČIŠÍN Jakub | AK22: T
B23: Dílny | J23: 3440 | K23: URUBKOVÁ Milena | O23: DR | Y23: 37956 | Z23: Quality Inspector - Senior | AF23: 12431 | AG23: Designer
B24: Mateřská | J24: 40297 | K24: Warehouse | Z24: Inspektor kvality - Senior | AG24: Konstruktér
B25: Externista | K25: Skladník - zásobovač
Y26: 3430 | Z26: VRZAL Martin | AD26: T | AF26: 4610 | AG26: MACHÁČ Vlastimil, Bc. | AK26: T
J27: 3440 | K27: TRLICOVÁ PETRA | O27: DR | Y27: 11073 | Z27: Quality Inspector - Junior | AF27: 10834 | AG27: Technologist - Winding
J28: 12470 | K28: Warehouse | Z28: Inspektor kvality - Junior | AG28: Technolog navíjení
K29: Skladník - výdejce
Y30: 4520 | Z30: JANKŮ Jaroslava | AD30: T | AF30: 4610 | AG30: BLANARČÍK Petr, Ing. | AK30: T
J31: 2230 | K31: Paketárna / Stamping Shop | Y31: 12602 | Z31: Quality Inspector - Junior | AF31: 01038 | AG31: Designer
J32: 2620 | K32: Paketárna / Stacking Shop | Z32: Inspektor kvality - Junior | AG32: Konstruktér

Sheet Lamination
B2: New Structure at TES | F2: =TES!F2 -> 44348
K3: Lisovna / Stamping Shop
B4: THZ | C4: =SUM(D4:G4) -> 0 | K4: 4660 | L4: POLANSKÝ Petr, Ing. | P4: MN
B5: DR | C5: =SUM(D5:G5) -> 0 | K5: 10656 | L5: Product Unit Manager - Stamping Shop
B6: DV | C6: =H27+P27 -> 0 | L6: Manažer produktové jednotky - Lisovna
C10: 4550 | D10: KULHAJ Jaroslav | H10: M | K10: 4550 | L10: MIKULEC Jaromír | P10: M | R10: 4510 | S10: KOPECKÝ Radim | W10: VS | Y10: 4520 | Z10: MAŃÁKOVÁ Marie | AD10: T | AG10: Jednatelé
C11: 10310 | D11: Master - Stamping Shop | K11: 10856 | L11: Master - Stamping Shop | R11: 01050 | S11: Leader of TPP | Y11: 50065 | Z11: Engineer of Quality - Senior | AG11: Manažeři
D12: Mistr - lisovna | L12: Mistr - lisovna | S12: Vedoucí skupiny TPV | Z12: Inženýr kvality - Senior | AG12: Vedoucí
AG13: Administrativa
R14: 4510 | S14: FILÁK Miloslav | W14: T | Y14: 4520 | Z14: BALETKOVÁ Dana | AD14: T | AG14: Režisti
C15: 2220 | D15: KNEBL Petr | H15: DR | K15: 2220 | L15: KULHÁNEK Jiří | P15: DR | R15: 12108 | S15: Designer | Y15: 42634 | Z15: Quality Inspector - Junior | AG15: Dílny
C16: 12609 | D16: Operator - Forklift | K16: 11812 | L16: Stock Clerk | S16: Konstruktér | Z16: Inspektor kvality - Junior | AG16: Mateřská
D17: Manipulant-řidič VV | L17: Skladník | AG17: Externista
R18: 4510 | S18: KATRUŠÁK Zdeněk | W18: T | Y18: 4520 | Z18: ORSÁG David | AD18: T
C19: 2220 | D19: IŠPOLD Josef | H19: DR | K19: 2220 | L19: NEOBSAZENO | P19: DR | R19: 01049 | S19: Designer | Y19: 12632 | Z19: Quality Inspector - Junior
C20: 98290 | D20: Operator - Forklift | L20: Operator - Forklift | S20: Konstruktér | Z20: Inspektor kvality - Junior
L21: Manipulant-řidič VV
R22: 4510 | S22: MÁCA Milan | W22: T | Y22: 4520 | Z22: ZRNÍK Jan | AD22: T
C23: 2220 | D23: JANIŠ Ivan | H23: DR | K23: 2220 | L23: ŠIMEK Ondřej | P23: DR | R23: 89761 | S23: TECHNOLOGIST | Y23: 10554 | Z23: Quality Inspector - Junior
C24: 11533 | D24: Operator - Forklift | K24: 11797 | L24: Operator - Forklift | S24: Technolog | Z24: Inspektor kvality - Junior
D25: Manipulant-řidič VV | L25: Manipulant-řidič VV
R26: 4510 | S26: ONDRA Přemysl, DiS. | W26: T | Y26: 4520 | Z26: BLAŽEK Daniel, Bc. | AD26: T
C27: 2220 | D27: Lisovna / Stamping Shop | K27: 2220 | L27: Lisovna / Stamping Shop | R27: 11760 | S27: Designer | Y27: 12624 | Z27: Quality Inspector - Junior
S28: Konstruktér | Z28: Inspektor kvality - Junior
R30: 4510 | S30: ORSÁG Michal | W30: T
R31: 01051 | S31: Designer
S32: Konstruktér
R34: 4510 | S34: PITRUCHA Stanislav | W34: T
R35: 01052 | S35: Designer
S36: Konstruktér

Sheet Switchboard & Toolshop
B2: New Structure at TES | F2: =TES!F2 -> 44348
S3: Rozvaděče a Nástrojárna / Switchboard & Toolshop
B4: THZ | C4: =SUM(D4:F4) -> 0 | S4: 5110 | T4: MATULA Lukáš Ing | Y4: MN
B5: DR | C5: =SUM(D5:F5) -> 0 | S5: 12578 | T5: Product unit manager - Switchboard & Toolshop
B6: DV | C6: =N39+N40+AP30+AP31 -> 0 | T6: Manažer produktové jednotky - Rozvaděče a nástrojárna
I10: 5440 | J10: TŘETINA Dušan | N10: M | P10: 5310 | Q10: VOZÁK Lumír | U10: VS | W10: 5450 | X10: HANIČÁK Tomáš | AB10: T | AD10: 5520 | AE10: NOVOSÁD Jaroslav, Ing. | AI10: T | AK10: 5110 | AL10: PIFKA Jan | AP10: MN
I11: 12375 | J11: Master - Electrical Production | P11: 20068 | Q11: Head of Testing Room | W11: 12123 | X11: Technologist | AD11: 11783 | AE11: HW - SW Designer | AK11: 20280 | AL11: Production Manager - Mechanical
J12: Mistr - elektromontáž | Q12: Vedoucí zkušebny | X12: Technolog | AE12: Konstruktér | AL12: Manažer výroby JÚS a nástrojárny
I14: 2720 | J14: Elektrovýroba / Electrical Production | P14: 2740 | Q14: JAKUBEC Roman | U14: T | AD14: 5520 | AE14: ENGLIŠ Martin | AI14: T | AK14: 5430 | AL14: ZÁMEČNÍK Petr | AP14: M
B15: Jednatelé | I15: 2730 | J15: Výroba kusových rozvaděčů / Single Part Production - Switchboard | P15: 20347 | Q15: Electrical Engineer | AD15: 12575 | AE15: HW - SW Designer | AK15: 20292 | AL15: Master - Mech. Assembly
B16: Manažeři | Q16: Zkušební technik | AE16: Konstruktér | AL16: Mistr - mechanika JUS
B17: Vedoucí
B18: Administrativa | AK18: 4560 | AL18: ÚNAR Jaroslav | AP18: M
B19: Režisti | AK19: 85113 | AL19: Master - Tool Shop
B20: Dílny | AL20: Mistr - nástrojárna
B21: Mateřská
B22: Externista | AK22: 4560 | AL22: MIKULÍK Petr | AP22: M
AK23: 20122 | AL23: Master - Tool Shop
AL24: Mistr - nástrojárna
AK26: 4560 | AL26: LYS Radim | AP26: T
AK27: 12459 | AL27: Quality Inspector - Senior
AL28: Inspektor kvality - Senior
AK30: 2120 | AL30: Montáž JÚS / Assembly Spec. Purpose Machines
AK31: 2240 | AL31: Nástrojárna / Tool Shop

Sheet R&D
B2: New Structure at TES | F2: =TES!F2 -> 44348
P3: Výzkum a vývoj / Research & Development
B4: THZ | C4: =SUM(D4:F4) -> 0 | P4: 3410 | Q4: ŠKÝVARA Petr, Ing. | U4: MN
B5: DR | C5: =SUM(D5:F5) -> 0 | P5: 11566 | Q5: Head of Design & Development
B6: DV | C6: =SUM(D6:F6) -> 0 | Q6: Vedoucí konstrukce a vývoje
B10: 3410 | C10: HOŘÁK Ladislav, Bc. | G10: T | I10: 3410 | J10: HALUŠKA Ján, Ing. | N10: T | P10: 3490 | Q10: MÁNEK Petr, Ing. | U10: T | W10: 3410 | X10: SURÝ Antonín, DiS | AB10: T | AD10: 3410 | AE10: FOJTŮ Lenka | AI10: T
B11: 11928 | C11: Teamleader - Mechanical design | I11: 11910 | J11: Teamleader - Winding design | P11: 11789 | Q11: Teamleader - El.Magnetic. Calculation | W11: 01030 | X11: Teamleader - Technical Support | AD11: 01044 | AE11: Drawing Archive
C12: Konstruktér | J12: Konstruktér | Q12: Projektant elektro | X12: Konstruktér | AE12: Konstruktér
AL13: Jednatelé
B14: 3490 | C14: ČALA Václav, Ing. | G14: T | I14: 3410 | J14: LARMER Jaroslav, Ing. | N14: T | P14: 3490 | Q14: BEDNAŘÍK Jaroslav, Ing. | U14: T | W14: 3410 | X14: KACELE Jiří, Bc. | AB14: T | AL14: Manažeři
B15: 01031 | C15: Mechanical Designer | I15: 01041 | J15: Winding Designer | P15: 11388 | Q15: El. Mag. Calculation | W15: 11505 | X15: User Guides | AL15: Vedoucí
C16: Konstruktér | J16: Konstruktér | Q16: Projektant elektro | X16: Konstruktér | AL16: Administrativa
AL17: Režisti
B18: 3490 | C18: KOVÁŘOVÁ Ivana, Ing. | G18: T | I18: 3410 | J18: VAVŘINA Jiří, Ing. | N18: T | P18: 3490 | Q18: HRTÁŇ Michal, Ing. | U18: T | W18: 3410 | X18: HROMADA Martin, Ing. | AB18: T | AL18: Dílny
B19: 11748 | C19: FEM Specialist | I19: 11731 | J19: Winding Designer | P19: 11308 | Q19: El. Mag. Calculation | W19: 11561 | X19: Bearing/Accesories (Draft Support) | AL19: Mateřská
C20: Konstruktér | J20: Konstruktér | Q20: Projektant elektro | X20: Konstruktér | AL20: Externista
B22: 3410 | C22: MIČKAL Radek | G22: MN | I22: 3410 | J22: STANĚK Rostislav, Ing. | N22: T | P22: 3490 | Q22: SVOBODA Jiří, Ing. | U22: T
B23: 01035 | C23: Mechanical Designer | I23: 01043 | J23: Winding Designer | P23: 11575 | Q23: El. Mag. Calculation
C24: Manažer strojní konstrukce | J24: Konstruktér | Q24: Projektant elektro
B26: 3410 | C26: MRLINOVÁ Marie | G26: T | I26: 3410 | J26: HLAVICA Jan | N26: T | P26: 3490 | Q26: VANDA Martin, Ing. | U26: T
B27: 01047 | C27: Mechanical Designer | I27: 12621 | J27: Winding Designer | P27: 11848 | Q27: El. Mag. Calculation
C28: Konstruktér | J28: Konstruktér | Q28: Projektant elektro
B30: 3410 | C30: ONDRA Miloš, Ing. | G30: T | I30: 3410 | J30: SCHLESINGER Petr, Ing. | N30: T
B31: 01036 | C31: Mechanical Designer | I31: 12622 | J31: Winding Designer
C32: Konstruktér | J32: Konstruktér
B34: 3410 | C34: VALENTA Tomáš, Ing. | G34: T
B35: 11914 | C35: Mechanical Designer - Test Stands
C36: Konstruktér - Zkušební stanoviště
B38: 3410 | C38: MARKOVÁ Hana | G38: T
B39: 01034 | C39: Mechanical Designer - Test Stands
C40: Konstruktér - Zkušební stanoviště
B42: 3410 | C42: BAJZA Stanislav, Ing. | G42: T
B43: 12628 | C43: Mechanical Designer - Test Stands
C44: Konstruktér - Zkušební stanoviště

Sheet Maintenance Repair
B2: New Structure at TES | F2: =TES!F2 -> 44348
I3: Údržba / Maintenance
B4: THZ | C4: =SUM(D4:F4) -> 0 | I4: 1110 | J4: PFEILER Zdeněk, Ing. | N4: J
B5: DR | C5: =SUM(D5:F5) -> 0 | I5: 11350 | J5: Operations & Plant Manager (COO)
B6: DV | C6: 0 | J6: Výrobní ředitel
Y7: Jednatelé
Y8: Manažeři
I9: 1910 | J9: ELIÁŠ Jakub | N9: T | P9: 1910 | Q9: DANĚK Tomáš | U9: T | Y9: Vedoucí
I10: 12076 | J10: Operations Technician | P10: 11162 | Q10: Operations Technician - Electro | Y10: Administrativa
J11: Provozní technik | Q11: Provozní technik - elektro | Y11: Režisti
Y12: Dílny
Y13: Mateřská
B14: 1940 | C14: JANÍK Václav | G14: DR | I14: 1940 | J14: KOŇAŘÍK Vlastimil | N14: DR | P14: 1920 | Q14: BJALEK Vladimír | U14: DR | Y14: Externista
B15: 96093 | C15: Locksmith | I15: 11428 | J15: Locksmith | P15: 10304 | Q15: Electrician
C16: Provoz.zámečník-tribotechnik | J16: Provozní zámečník | Q16: Provozní elektrikář
B18: 1940 | C18: JANOTA Milan | G18: DR | I18: 1930 | J18: SKLÁŘ František | N18: DR | P18: 1920 | Q18: MACEK Jan | U18: DR
B19: 11582 | C19: Locksmith | I19: 55592 | J19: Electro Mechanician NC Machines | P19: 11342 | Q19: Electrician
C20: Provozní zámečník | J20: Elektromechanik NC strojů | Q20: Provozní elektrikář
B22: 1940 | C22: MIKULENKA Miroslav | G22: DR | I22: 1940 | J22: KAJZER Milan | N22: DR | P22: 1920 | Q22: ŠIMČÍK Jiří | U22: DR
B23: 10943 | C23: Locksmith | I23: 93733 | J23: Locksmith | P23: 11808 | Q23: Electrician
C24: Provozní zámečník | J24: Provozní zámečník | Q24: Provozní elektrikář
B26: 1940 | C26: MRNŮŠTÍK Jiří | G26: DR | I26: 1940 | J26: MAŇÁK Milan | N26: DR | P26: 1920 | Q26: TRČÁLEK Jiří | U26: DR
B27: 99377 | C27: Locksmith | I27: 11037 | J27: Locksmith | P27: 12258 | Q27: Electrician
C28: Provozní zámečník | J28: Provozní zámečník | Q28: Provozní elektrikář
B30: 1940 | C30: ŠŤASTNÝ Zdeněk | G30: DR
B31: 12625 | C31: Locksmith
C32: Provozní zámečník

Sheet HR & IT & C & F 
B2: New Structure at TES | F2: =TES!F2 -> 44348
J3: HR, Finance & Administration
B4: THZ | C4: =ROUND(SUM(D4:G4),0) -> 0 | J4: 1110 | K4: KASANICKÝ Ján, Ing. | O4: J
B5: DR | C5: 0 | J5: 12194 | K5: CFO
B6: DV | C6: 0 | K6: Finanční ředitel
C10: 1530 | D10: KOUSALOVÁ Erika | H10: VS | J10: 1520 | K10: ŠVAGEROVÁ Martina, Ing. | O10: VS | Q10: 1510 | R10: MÁČALA Jakub, Ing. | V10: MN | X10: 1610 | Y10: ROCHOWANSKÁ Tereza, Bc. | AC10: MN | AG10: Jednatelé
C11: 01007 | D11: IT Manager | J11: 20348 | K11: Accounting Manager | Q11: 12071 | R11: Controlling Manager | X11: 12504 | Y11: HR Manager | AG11: Manažeři II
D12: Vedoucí IT | K12: Vedoucí účtárny | R12: Manažer kontrollingu | Y12: Manažer HR | AG12: Vedoucí
AG13: Administrativa
C14: 1530 | D14: BARTOŠÁK Lukáš, Ing. | H14: R | J14: 1520 | K14: ČEŠKOVÁ Darja, Ing. | O14: R | Q14: 1510 | R14: HROMADOVÁ Dagmar Ing. | V14: R | X14: 1610 | Y14: TROCHTOVÁ Marie | AC14: R | AG14: Režisti
C15: 11762 | D15: Systems Administrator | J15: 12148 | K15: Accountant | Q15: 12539 | R15: Financial & HR Controller | X15: 01011 | Y15: HR-Payroll Officer | AG15: Dílny
D16: Systémový Administrator | K16: Účetní | R16: Finanční a HR kontrolor | Y16: Personálně-mzdový referent | AG16: Mateřská
AG17: Externista
C18: 1530 | D18: ČOKAVEC Milan | H18: R | J18: 1520 | K18: LIŠKOVÁ Sylva | O18: R | Q18: 1510 | R18: SKŘIVÁNKOVÁ Zuzana Ing. | V18: R | X18: 1610 | Y18: KOVAŘÍČKOVÁ Ivana, Ing. | AC18: R
C19: 01015 | D19: IT QAD Analyst | J19: 20236 | K19: Accountant | Q19: 12589 | R19: Process Controller | X19: 12269 | Y19: HR Officer
D20: IT QAD Analytik | K20: Účetní | R20: Procesní kontrolor | Y20: HR Referent
C22: 1530 | D22: VÁŠA Michal | H22: R | J22: 1520 | K22: ŠIMAROVÁ Renata | O22: R | X22: 1610 | Y22: TRLICOVÁ Kateřina | AC22: R
C23: 12394 | D23: Network Administrator | J23: 12208 | K23: Accountant | X23: 12082 | Y23: HR Officer
D24: Správce sítí | K24: Účetní | Y24: HR Referent
J26: 1520 | K26: KOŇAŘÍKOVÁ Kristýna | O26: R
J27: 12630 | K27: Accountant
K28: Účetní
X30: 1610 | Y30: CHVATÍKOVÁ Vendula, Bc. | AC30: R
X31: 11890 | Y31: HR Specialist | AC31: Mat.
Y32: HR Specialista

Sheet List1
A2: J
A3: MN
A4: VS
A5: M
A6: T
A7: R
A8: DR

Sheet List2
